BEGIN:VCALENDAR
VERSION:2.0
PRODID:-//Burlesque Cologne - ECPv6.15.20//NONSGML v1.0//EN
CALSCALE:GREGORIAN
METHOD:PUBLISH
X-WR-CALNAME:Burlesque Cologne
X-ORIGINAL-URL:https://burlesquecologne.de/en
X-WR-CALDESC:Events for Burlesque Cologne
REFRESH-INTERVAL;VALUE=DURATION:PT1H
X-Robots-Tag:noindex
X-PUBLISHED-TTL:PT1H
BEGIN:VTIMEZONE
TZID:Europe/Paris
BEGIN:DAYLIGHT
TZOFFSETFROM:+0100
TZOFFSETTO:+0200
TZNAME:CEST
DTSTART:20240331T010000
END:DAYLIGHT
BEGIN:STANDARD
TZOFFSETFROM:+0200
TZOFFSETTO:+0100
TZNAME:CET
DTSTART:20241027T010000
END:STANDARD
BEGIN:DAYLIGHT
TZOFFSETFROM:+0100
TZOFFSETTO:+0200
TZNAME:CEST
DTSTART:20250330T010000
END:DAYLIGHT
BEGIN:STANDARD
TZOFFSETFROM:+0200
TZOFFSETTO:+0100
TZNAME:CET
DTSTART:20251026T010000
END:STANDARD
BEGIN:DAYLIGHT
TZOFFSETFROM:+0100
TZOFFSETTO:+0200
TZNAME:CEST
DTSTART:20260329T010000
END:DAYLIGHT
BEGIN:STANDARD
TZOFFSETFROM:+0200
TZOFFSETTO:+0100
TZNAME:CET
DTSTART:20261025T010000
END:STANDARD
END:VTIMEZONE
BEGIN:VEVENT
DTSTART;TZID=Europe/Paris:20250413T140000
DTEND;TZID=Europe/Paris:20250413T160000
DTSTAMP:20260426T020948
CREATED:20241223T153547Z
LAST-MODIFIED:20250409T132747Z
UID:5563-1744552800-1744560000@burlesquecologne.de
SUMMARY:"The Pin-Up Striptease Experience“ (Beginners)
DESCRIPTION:A pin-up inspired striptease workshop with a full choreographed strip-routine. Get ready for a full reveal\, blending vintage glamour and sultry movements.  \n  \n\n \nWorkshop Details: \nGenders: FLINTA*  \nSkill Focus: \n\nChoreographic Skills: ★★★★☆ (4/5)\n\n\nPerformative Skills: ★★★☆☆ (3/5)\n\n\nPhysical Demand: ★★★☆☆ (3/5)\n\n  \n\n  \nGender Inclusivity in our Workshops: \nMost of our work is focused on hyper-feminized expressions of movement and style. We strive to create a welcoming and supportive environment for anyone who identifies as a woman or as non-binary and feels drawn to explore these forms of self-expression. \nSome workshops are open to all genders\, including male participants\, while others are designed specifically for women and non-binary individuals. Each workshop has its own approach to gender inclusivity\, so please check the descriptions to find the one that best suits your interests.
URL:https://burlesquecologne.de/en/event/the-pin-up-striptease-experience/
LOCATION:Orlandos Dance Studio\, Gladbacher Str. 29\, Cologne\, NRW\, 50672\, Alemania
ATTACH;FMTTYPE=image/jpeg:https://burlesquecologne.de/wp-content/uploads/2024/12/anna_burl-ph.-Frank-Samaga-scaled.jpg
END:VEVENT
BEGIN:VEVENT
DTSTART;TZID=Europe/Paris:20250427T133000
DTEND;TZID=Europe/Paris:20250427T163000
DTSTAMP:20260426T020948
CREATED:20241223T155208Z
LAST-MODIFIED:20250409T133320Z
UID:5573-1745760600-1745771400@burlesquecologne.de
SUMMARY:Burlesque Stage Beauty MakeUp Workshop
DESCRIPTION:Learn makeup techniques to complete your Burlesque look\, with professional makeup artist Theresa Valder as a guest to guide you and answer all your questions! \n  \n\n  \nWorkshop Details: \nGenders: All* \nIncludes. Snacks\, Tea\, Coffee and a glass of Sekt.  \nSome Make up products will be included\, but you should bring your own: \n• Moisturizer\n• Lip care\n• Eye care\n• Eye base\n• Eyeshadow in neutral tones (light to dark) & brushes to apply\n• Lashes & glue\n• Mascara\n• Black kajal\n• Setting spray\n• Fixing spray\n• Foundation for your skin type & brush or sponge to apply\n• Eyeliner\n• Contouring shade in a cool tone & brush to apply\n• Bronzing shade in a warm tone & brush to apply\n• Highlighter\n• Loose powder & brush to apply\n• Compact powder \nIn case you don’t have some items from the list\, please let us know so we can provide them for you. \n\n  \n*Gender Inclusivity in our Workshops: \n  \nMost of our work is focused on hyper-feminized expressions of movement and style. We strive to create a welcoming and supportive environment for anyone who identifies as a woman or as non-binary and feels drawn to explore these forms of self-expression. \nSome workshops are open to all genders\, including male participants\, while others are designed specifically for women and non-binary individuals. Each workshop has its own approach to gender inclusivity\, so please check the descriptions to find the one that best suits your interests.
URL:https://burlesquecologne.de/en/event/burlesque-stage-beauty-makeup-workshop/
LOCATION:Bürgerhaus Stollwerk\, Dreikönigenstraße 23\, Cologne\, NRW\, 50678\, Germany
ATTACH;FMTTYPE=image/jpeg:https://burlesquecologne.de/wp-content/uploads/2024/12/Burlesque-Workshop-5-scaled.jpg
END:VEVENT
END:VCALENDAR