BEGIN:VCALENDAR
VERSION:2.0
PRODID:-//Burlesque Cologne - ECPv6.15.20//NONSGML v1.0//EN
CALSCALE:GREGORIAN
METHOD:PUBLISH
X-WR-CALNAME:Burlesque Cologne
X-ORIGINAL-URL:https://burlesquecologne.de/en
X-WR-CALDESC:Events for Burlesque Cologne
REFRESH-INTERVAL;VALUE=DURATION:PT1H
X-Robots-Tag:noindex
X-PUBLISHED-TTL:PT1H
BEGIN:VTIMEZONE
TZID:Europe/Paris
BEGIN:DAYLIGHT
TZOFFSETFROM:+0100
TZOFFSETTO:+0200
TZNAME:CEST
DTSTART:20240331T010000
END:DAYLIGHT
BEGIN:STANDARD
TZOFFSETFROM:+0200
TZOFFSETTO:+0100
TZNAME:CET
DTSTART:20241027T010000
END:STANDARD
BEGIN:DAYLIGHT
TZOFFSETFROM:+0100
TZOFFSETTO:+0200
TZNAME:CEST
DTSTART:20250330T010000
END:DAYLIGHT
BEGIN:STANDARD
TZOFFSETFROM:+0200
TZOFFSETTO:+0100
TZNAME:CET
DTSTART:20251026T010000
END:STANDARD
BEGIN:DAYLIGHT
TZOFFSETFROM:+0100
TZOFFSETTO:+0200
TZNAME:CEST
DTSTART:20260329T010000
END:DAYLIGHT
BEGIN:STANDARD
TZOFFSETFROM:+0200
TZOFFSETTO:+0100
TZNAME:CET
DTSTART:20261025T010000
END:STANDARD
END:VTIMEZONE
BEGIN:VEVENT
DTSTART;TZID=Europe/Paris:20250518T133000
DTEND;TZID=Europe/Paris:20250518T163000
DTSTAMP:20260426T004511
CREATED:20241223T164846Z
LAST-MODIFIED:20250409T133410Z
UID:5577-1747575000-1747585800@burlesquecologne.de
SUMMARY:Vintage Hairstyle Workshop
DESCRIPTION:Master the art of iconic vintage waves to elevate your timeless style. Guided by professional stylist Michael Caliman\, who will teach you the techniques to create flawless retro looks. \n  \n\n  \nWorkshop Details: \nGenders: All* \nIncludes. Snacks\, Tea\, Coffee and a glass of Sekt. \nSome Hair products will be included\, but you should bring your own: \n\nCurling iron.\nBrushes.\nHair clips.\nHairspray.\nHeat Protection Spray.\nVolume Powder.\n\nIn case you don’t have some items from the list\, please let us know so we can provide them for you. \nSuggested products: \n        \n\n  \n  \n*Gender Inclusivity in our Workshops: \n  \nMost of our work is focused on hyper-feminized expressions of movement and style. We strive to create a welcoming and supportive environment for anyone who identifies as a woman or as non-binary and feels drawn to explore these forms of self-expression. \nSome workshops are open to all genders\, including male participants\, while others are designed specifically for women and non-binary individuals. Each workshop has its own approach to gender inclusivity\, so please check the descriptions to find the one that best suits your interests.
URL:https://burlesquecologne.de/en/event/vintage-hairstyle-workshop/
LOCATION:Bürgerhaus Stollwerk\, Dreikönigenstraße 23\, Cologne\, NRW\, 50678\, Germany
ATTACH;FMTTYPE=image/jpeg:https://burlesquecologne.de/wp-content/uploads/2024/12/Album-sin-titulo-1-de-1-2.jpeg
END:VEVENT
END:VCALENDAR