BEGIN:VCALENDAR
VERSION:2.0
PRODID:-//Burlesque Cologne - ECPv6.15.20//NONSGML v1.0//EN
CALSCALE:GREGORIAN
METHOD:PUBLISH
X-WR-CALNAME:Burlesque Cologne
X-ORIGINAL-URL:https://burlesquecologne.de/en
X-WR-CALDESC:Events for Burlesque Cologne
REFRESH-INTERVAL;VALUE=DURATION:PT1H
X-Robots-Tag:noindex
X-PUBLISHED-TTL:PT1H
BEGIN:VTIMEZONE
TZID:Europe/Paris
BEGIN:DAYLIGHT
TZOFFSETFROM:+0100
TZOFFSETTO:+0200
TZNAME:CEST
DTSTART:20240331T010000
END:DAYLIGHT
BEGIN:STANDARD
TZOFFSETFROM:+0200
TZOFFSETTO:+0100
TZNAME:CET
DTSTART:20241027T010000
END:STANDARD
BEGIN:DAYLIGHT
TZOFFSETFROM:+0100
TZOFFSETTO:+0200
TZNAME:CEST
DTSTART:20250330T010000
END:DAYLIGHT
BEGIN:STANDARD
TZOFFSETFROM:+0200
TZOFFSETTO:+0100
TZNAME:CET
DTSTART:20251026T010000
END:STANDARD
BEGIN:DAYLIGHT
TZOFFSETFROM:+0100
TZOFFSETTO:+0200
TZNAME:CEST
DTSTART:20260329T010000
END:DAYLIGHT
BEGIN:STANDARD
TZOFFSETFROM:+0200
TZOFFSETTO:+0100
TZNAME:CET
DTSTART:20261025T010000
END:STANDARD
END:VTIMEZONE
BEGIN:VEVENT
DTSTART;TZID=Europe/Paris:20250713T140000
DTEND;TZID=Europe/Paris:20250713T160000
DTSTAMP:20260425T214501
CREATED:20241223T175934Z
LAST-MODIFIED:20250409T135552Z
UID:5592-1752415200-1752422400@burlesquecologne.de
SUMMARY:"Oh man! Welcome to Boylesque" Workshop
DESCRIPTION:Cologne’s first Boylesque Class! The masculine energy meets the art of seduction. \nDare to know how masculinized expressions combine the irresistible tease\, charm\, and drama that burlesque is known for. \nLearn from our Special Guest Teacher from Luxemburg: Leo Rise \nLeo performs on international stages (like the Berlin Burlesque Festival & Cologne Burlesque Festival) and is teaching regular Boylesque Classes in Luxemburg. We are very happy to host him and let you experience Leos expertise and charm. \n  \n\n  \nWorkshop Details: \n  \nGenders: All* \nSkill Focus: \n\nChoreographic Skills: ★★★☆☆ (3/5)\n\n\nPerformative Skills: ★★★☆☆ (3/5)\n\n\nPhysical Demand: ★★☆☆☆ (2/5)\n\n  \n\nGender Inclusivity in our Workshops: \nMost of our work is focused on hyper-feminized expressions of movement and style. We strive to create a welcoming and supportive environment for anyone who identifies as a woman or as non-binary and feels drawn to explore these forms of self-expression. \nSome workshops are open to all genders\, including male participants\, while others are designed specifically for women and non-binary individuals. Each workshop has its own approach to gender inclusivity\, so please check the descriptions to find the one that best suits your interests.
URL:https://burlesquecologne.de/en/event/oh-man-welcome-to-boylesque-workshop/
LOCATION:Orlandos Dance Studio\, Gladbacher Str. 29\, Cologne\, NRW\, 50672\, Alemania
ATTACH;FMTTYPE=image/jpeg:https://burlesquecologne.de/wp-content/uploads/2024/12/IMG_0616-1.jpg
END:VEVENT
END:VCALENDAR