BEGIN:VCALENDAR
VERSION:2.0
PRODID:-//Burlesque Cologne - ECPv6.15.20//NONSGML v1.0//EN
CALSCALE:GREGORIAN
METHOD:PUBLISH
X-ORIGINAL-URL:https://burlesquecologne.de/en
X-WR-CALDESC:Events for Burlesque Cologne
REFRESH-INTERVAL;VALUE=DURATION:PT1H
X-Robots-Tag:noindex
X-PUBLISHED-TTL:PT1H
BEGIN:VTIMEZONE
TZID:Europe/Paris
BEGIN:DAYLIGHT
TZOFFSETFROM:+0100
TZOFFSETTO:+0200
TZNAME:CEST
DTSTART:20240331T010000
END:DAYLIGHT
BEGIN:STANDARD
TZOFFSETFROM:+0200
TZOFFSETTO:+0100
TZNAME:CET
DTSTART:20241027T010000
END:STANDARD
BEGIN:DAYLIGHT
TZOFFSETFROM:+0100
TZOFFSETTO:+0200
TZNAME:CEST
DTSTART:20250330T010000
END:DAYLIGHT
BEGIN:STANDARD
TZOFFSETFROM:+0200
TZOFFSETTO:+0100
TZNAME:CET
DTSTART:20251026T010000
END:STANDARD
BEGIN:DAYLIGHT
TZOFFSETFROM:+0100
TZOFFSETTO:+0200
TZNAME:CEST
DTSTART:20260329T010000
END:DAYLIGHT
BEGIN:STANDARD
TZOFFSETFROM:+0200
TZOFFSETTO:+0100
TZNAME:CET
DTSTART:20261025T010000
END:STANDARD
END:VTIMEZONE
BEGIN:VEVENT
DTSTART;TZID=Europe/Paris:20250810T140000
DTEND;TZID=Europe/Paris:20250810T160000
DTSTAMP:20260425T200924
CREATED:20241223T172834Z
LAST-MODIFIED:20250408T222325Z
UID:5586-1754834400-1754841600@burlesquecologne.de
SUMMARY:"B*tch Slay: The Boa Edition" Burlesque Workshop
DESCRIPTION:A fierce workshop that teaches you how to own the stage with unapologetic confidence. Floorwork choreography with a boa as your glamorous prop to strike that perfect mix of diva elegance and b*tchy attitude. \n  \n\nWorkshop Details: \nGenders: All* \nSkill Focus: \n\nChoreographic Skills: ★★★★★ (5/5)\n\n\nPerformative Skills: ★★★☆☆ (3/5)\n\n\nPhysical Demand: ★★★★★ (5/5)\n\n  \n\nGender Inclusivity in our Workshops: \nMost of our work is focused on hyper-feminized expressions of movement and style. We strive to create a welcoming and supportive environment for anyone who identifies as a woman or as non-binary and feels drawn to explore these forms of self-expression. \nSome workshops are open to all genders\, including male participants\, while others are designed specifically for women and non-binary individuals. Each workshop has its own approach to gender inclusivity\, so please check the descriptions to find the one that best suits your interests.
URL:https://burlesquecologne.de/en/event/bitch-slay-the-boa-edition-burlesque-workshop/
LOCATION:Orlandos Dance Studio\, Gladbacher Str. 29\, Cologne\, NRW\, 50672\, Alemania
ATTACH;FMTTYPE=image/jpeg:https://burlesquecologne.de/wp-content/uploads/2024/12/image0-1.jpg
END:VEVENT
END:VCALENDAR